BEGIN:VCALENDAR
VERSION:2.0
PRODID:-//Tukios.com/
BEGIN:VEVENT
UID:e8b5c162-4094-4718-86c8-cb919a54ef1f@www.burket-truby.com
DTSTAMP:20260420T170240Z
DTSTART:20260425T190000Z
DTEND:20260425T220000Z
SUMMARY:Visitation
DESCRIPTION:
URL:https://www.burket-truby.com/obituaries/john-watson-jr
LOCATION:Burket-Truby Funeral Home 421 Allegheny Ave  Oakmont PA 15139
GEO:40.5169415;-79.8436359
END:VEVENT
END:VCALENDAR