BEGIN:VCALENDAR
VERSION:2.0
PRODID:-//Tukios.com/
BEGIN:VEVENT
UID:a46bdcec-a971-42c8-a4af-1fc1c9a83c4e@www.burket-truby.com
DTSTAMP:20260426T024243Z
DTSTART:20260429T180000Z
DTEND:20260429T200000Z
SUMMARY:Visitation
DESCRIPTION:
URL:https://www.burket-truby.com/obituaries/mary-verbanic
LOCATION: 421 Allegheny Ave  Oakmont PA 15139
GEO:40.5169415;-79.8436359
END:VEVENT
END:VCALENDAR