BEGIN:VCALENDAR
VERSION:2.0
PRODID:-//Tukios.com/
BEGIN:VEVENT
UID:f4c6aa67-771d-4bd4-99f4-515cb61ebb7a@www.burket-truby.com
DTSTAMP:20260426T024243Z
DTSTART:20260429T220000Z
DTEND:20260430T000000Z
SUMMARY:Visitation
DESCRIPTION:
URL:https://www.burket-truby.com/obituaries/mary-verbanic
LOCATION: 421 Allegheny Ave  Oakmont PA 15139
GEO:40.5169415;-79.8436359
END:VEVENT
END:VCALENDAR