BEGIN:VCALENDAR
VERSION:2.0
PRODID:-//Tukios.com/
BEGIN:VEVENT
UID:f785341d-8a3a-4ced-af71-db19ed900f13@www.burket-truby.com
DTSTAMP:20260426T024204Z
DTSTART:20260430T150000Z
DTEND:20260430T160000Z
SUMMARY:Mass
DESCRIPTION:
URL:https://www.burket-truby.com/obituaries/mary-verbanic
LOCATION:St. Joseph's Catholic Church 825 2nd St  Verona PA 15147
GEO:40.5066536;-79.8356084
END:VEVENT
END:VCALENDAR