BEGIN:VCALENDAR
VERSION:2.0
PRODID:-//Tukios.com/
BEGIN:VEVENT
UID:b3ff5c2a-faa9-49d6-b7e5-eba6c63bdef0@www.burket-truby.com
DTSTAMP:20260421T031106Z
DTSTART:20260427T180000Z
DTEND:20260428T000000Z
SUMMARY:Visitation
DESCRIPTION:
URL:https://www.burket-truby.com/obituaries/sally-frick
LOCATION: 421 Allegheny Ave  Oakmont PA 15139
GEO:40.5169415;-79.8436359
END:VEVENT
END:VCALENDAR