BEGIN:VCALENDAR
VERSION:2.0
PRODID:-//Tukios.com/
BEGIN:VEVENT
UID:cacb8d12-6898-4a2f-97bf-9e097fa8585f@www.burket-truby.com
DTSTAMP:20260421T030805Z
DTSTART:20260428T143000Z
DTEND:20260428T153000Z
SUMMARY:Mass
DESCRIPTION:
URL:https://www.burket-truby.com/obituaries/sally-frick
LOCATION:    Verona PA 15147
GEO:40.5064571;-79.843105
END:VEVENT
END:VCALENDAR